BEGIN:VCALENDAR
VERSION:2.0
PRODID:-//Österreichische Gesellschaft für Musikwissenschaft - ECPv6.15.20//NONSGML v1.0//EN
CALSCALE:GREGORIAN
METHOD:PUBLISH
X-ORIGINAL-URL:https://oegmw.at
X-WR-CALDESC:Veranstaltungen für Österreichische Gesellschaft für Musikwissenschaft
REFRESH-INTERVAL;VALUE=DURATION:PT1H
X-Robots-Tag:noindex
X-PUBLISHED-TTL:PT1H
BEGIN:VTIMEZONE
TZID:Europe/Vienna
BEGIN:DAYLIGHT
TZOFFSETFROM:+0100
TZOFFSETTO:+0200
TZNAME:CEST
DTSTART:20230326T010000
END:DAYLIGHT
BEGIN:STANDARD
TZOFFSETFROM:+0200
TZOFFSETTO:+0100
TZNAME:CET
DTSTART:20231029T010000
END:STANDARD
BEGIN:DAYLIGHT
TZOFFSETFROM:+0100
TZOFFSETTO:+0200
TZNAME:CEST
DTSTART:20240331T010000
END:DAYLIGHT
BEGIN:STANDARD
TZOFFSETFROM:+0200
TZOFFSETTO:+0100
TZNAME:CET
DTSTART:20241027T010000
END:STANDARD
BEGIN:DAYLIGHT
TZOFFSETFROM:+0100
TZOFFSETTO:+0200
TZNAME:CEST
DTSTART:20250330T010000
END:DAYLIGHT
BEGIN:STANDARD
TZOFFSETFROM:+0200
TZOFFSETTO:+0100
TZNAME:CET
DTSTART:20251026T010000
END:STANDARD
END:VTIMEZONE
BEGIN:VEVENT
DTSTART;TZID=Europe/Vienna:20240507T213000
DTEND;TZID=Europe/Vienna:20240507T230000
DTSTAMP:20260421T114803
CREATED:20240402T060310Z
LAST-MODIFIED:20240402T061214Z
UID:1121-1715117400-1715122800@oegmw.at
SUMMARY:Musiksalon - 100 Jahre Karl Heinz Füssl
DESCRIPTION:Karl Heinz Füssl (1924 – 1992) war eine prägende Figur des österreichischen Musiklebens im 20. Jahrhundert und machte sich auf unterschiedlichen Ebenen verdient: Als Lektor und Herausgeber der „Universal Edition“ leistete er einen entscheidenden Beitrag zur textgetreuen Publikation österreichischer Musik. Eine Generation von Studierenden prägte er als charismatischer Hochschullehrer für Formenlehre und Tonsatz. Nicht zuletzt war Füssl aber auch Komponist\, der wesentlich von den Schönberg-Schülern Josef Polnauer und Erwin Ratz beeinflusst war. Der Musiksalon widmet sich anlässlich des 100. Geburtstags dem Werk und der Wirkung von Karl Heinz Füssl\, dessen Nachlass sich in der Musiksammlung der Österreichischen Nationalbibliothek befindet.
URL:https://oegmw.at/veranstaltung/musiksalon-100-jahre-karl-heinz-fuessl
LOCATION:Palais Molard\, Herrengasse 9\, Wien\, Wien\, 1010\, Österreich
CATEGORIES:Konzert
ORGANIZER;CN="Institut f%C3%BCr %C3%96sterreichische Musikdokumentation":MAILTO:office@ioem.net
END:VEVENT
END:VCALENDAR