BEGIN:VCALENDAR
VERSION:2.0
PRODID:-//Österreichische Gesellschaft für Musikwissenschaft - ECPv6.15.20//NONSGML v1.0//EN
CALSCALE:GREGORIAN
METHOD:PUBLISH
X-WR-CALNAME:Österreichische Gesellschaft für Musikwissenschaft
X-ORIGINAL-URL:https://oegmw.at
X-WR-CALDESC:Veranstaltungen für Österreichische Gesellschaft für Musikwissenschaft
REFRESH-INTERVAL;VALUE=DURATION:PT1H
X-Robots-Tag:noindex
X-PUBLISHED-TTL:PT1H
BEGIN:VTIMEZONE
TZID:Europe/Vienna
BEGIN:DAYLIGHT
TZOFFSETFROM:+0100
TZOFFSETTO:+0200
TZNAME:CEST
DTSTART:20230326T010000
END:DAYLIGHT
BEGIN:STANDARD
TZOFFSETFROM:+0200
TZOFFSETTO:+0100
TZNAME:CET
DTSTART:20231029T010000
END:STANDARD
BEGIN:DAYLIGHT
TZOFFSETFROM:+0100
TZOFFSETTO:+0200
TZNAME:CEST
DTSTART:20240331T010000
END:DAYLIGHT
BEGIN:STANDARD
TZOFFSETFROM:+0200
TZOFFSETTO:+0100
TZNAME:CET
DTSTART:20241027T010000
END:STANDARD
BEGIN:DAYLIGHT
TZOFFSETFROM:+0100
TZOFFSETTO:+0200
TZNAME:CEST
DTSTART:20250330T010000
END:DAYLIGHT
BEGIN:STANDARD
TZOFFSETFROM:+0200
TZOFFSETTO:+0100
TZNAME:CET
DTSTART:20251026T010000
END:STANDARD
END:VTIMEZONE
BEGIN:VEVENT
DTSTART;TZID=Europe/Vienna:20240613T203000
DTEND;TZID=Europe/Vienna:20240613T220000
DTSTAMP:20260421T142454
CREATED:20240418T075001Z
LAST-MODIFIED:20240425T072208Z
UID:1178-1718310600-1718316000@oegmw.at
SUMMARY:Gastvortrag | Andrew Kirkman: Made to measure or prêt à chanter? The Court of Wilhelm IV and the Later Alamire Manuscripts
DESCRIPTION:The Alamire codices have traditionally been seen as diplomatic gifts\, or at the very least commissions from magnates and super-rich aficionados. This paper argues that for most of the later\, paper codices at least\, the sequence happened in reverse: in other words they comprised workshop material that was first produced and then sold once buyers could be found. The same conclusion prompts also a review of the construction of some of the more elegant\, parchment sources\, and the proposal that the ‘bespoke’ aspects of such codices may have extended no further than their opening—and hence most immediately visible—pages. \nAndrew Kirkman (University of Birmingham)
URL:https://oegmw.at/veranstaltung/gastvortrag-andrew-kirkman-made-to-measure-or-pret-a-chanter-the-court-of-wilhelm-iv-and-the-later-alamire-manuscripts
LOCATION:Institut für Musikwissenschaft Wien\, Spitalgasse 2-4\, Wien\, Wien\, 1090\, Österreich
CATEGORIES:Gastvortrag
END:VEVENT
END:VCALENDAR