BEGIN:VCALENDAR
VERSION:2.0
PRODID:-//Österreichische Gesellschaft für Musikwissenschaft - ECPv6.15.20//NONSGML v1.0//EN
CALSCALE:GREGORIAN
METHOD:PUBLISH
X-ORIGINAL-URL:https://oegmw.at
X-WR-CALDESC:Veranstaltungen für Österreichische Gesellschaft für Musikwissenschaft
REFRESH-INTERVAL;VALUE=DURATION:PT1H
X-Robots-Tag:noindex
X-PUBLISHED-TTL:PT1H
BEGIN:VTIMEZONE
TZID:Europe/Vienna
BEGIN:DAYLIGHT
TZOFFSETFROM:+0100
TZOFFSETTO:+0200
TZNAME:CEST
DTSTART:20230326T010000
END:DAYLIGHT
BEGIN:STANDARD
TZOFFSETFROM:+0200
TZOFFSETTO:+0100
TZNAME:CET
DTSTART:20231029T010000
END:STANDARD
BEGIN:DAYLIGHT
TZOFFSETFROM:+0100
TZOFFSETTO:+0200
TZNAME:CEST
DTSTART:20240331T010000
END:DAYLIGHT
BEGIN:STANDARD
TZOFFSETFROM:+0200
TZOFFSETTO:+0100
TZNAME:CET
DTSTART:20241027T010000
END:STANDARD
BEGIN:DAYLIGHT
TZOFFSETFROM:+0100
TZOFFSETTO:+0200
TZNAME:CEST
DTSTART:20250330T010000
END:DAYLIGHT
BEGIN:STANDARD
TZOFFSETFROM:+0200
TZOFFSETTO:+0100
TZNAME:CET
DTSTART:20251026T010000
END:STANDARD
END:VTIMEZONE
BEGIN:VEVENT
DTSTART;TZID=Europe/Vienna:20240625T200000
DTEND;TZID=Europe/Vienna:20240625T213000
DTSTAMP:20260421T114748
CREATED:20240422T122022Z
LAST-MODIFIED:20240422T122022Z
UID:1185-1719345600-1719351000@oegmw.at
SUMMARY:Buchpräsentation | Dieter Torkewitz – „Analysen ausgewählter Werke von Komponisten des 19. Jahrhunderts“
DESCRIPTION:Die Texte in diesem Buch sind eine Zusammenstellung und Überarbeitung von Studien des Autors seit den 70er Jahren bis heute. Die bislang in unterschiedlichen Periodika sowie Kongressberichten erschienenen Beiträge boten sich zu einem Wiederabdruck im Rahmen der Wiener Veröffentlichungen zur Theorie und Interpretation der Musik geradezu an: deren Grundintention der „Grenzüberschreitungen der Einzelressorts der Trias Kunst\, Theorie und Wissenschaft“ – so in der Einleitung des reiheneröffnenden ersten Bandes – entsprechen die multiplen Forschungsansätze von Dieter Torkewitz. Dass bei Studien zur Musik des 19. Jahrhunderts ein Schwerpunkt auf Franz Liszt liegt\, ist in Torkewitz’ lebenslanger Auseinandersetzung mit diesem Komponisten begründet. \nDieter Torkewitz lehrte an der Universität für Musik und darstellende Kunst Wien von 2001–2009 das Hauptfach Musiktheorie\, zunächst als Gastprofessor\, 2003 wurde er Lehrstuhlinhaber. In dieser Zeit initiierte er an der mdw eine Reihe von Veranstaltungen. So fokussierte die von ihm gegründete Vortragsreihe „Wiener Theoriegespräche“ die Beziehung zwischen Musik und Disziplinen unterschiedlichster Art wie beispielsweise Interpretationsforschung mittels KI\, Philosophie\, Architektur\, bildende Kunst\, Friedensforschung\, Medizin. Weiters plante und führte Torkewitz gemeinsam mit Univ.-Prof. i.R. Ingomar Rainer drei internationale Kongresse durch\, die eine enge Verknüpfung zwischen Musiktheorie\, -wissenschaft und Interpretation intendierten. Torkewitz und Rainer riefen auch die Buchreihe Wiener Veröffentlichungen zur Theorie und Interpretation der Musik ins Leben\, als deren fünfter Band die aktuelle Publikation erscheint. \nEm.o.Univ.-Prof. Wolfgang Watzinger wird im Rahmen der Buchpräsentation Werke von Franz Liszt\, Frédéric Chopin und Brahms spielen.
URL:https://oegmw.at/veranstaltung/buchpraesentation-dieter-torkewitz-analysen-ausgewaehlter-werke-von-komponisten-des-19-jahrhunderts
LOCATION:mdw – Universität für Musik und darstellende Kunst Wien\, Bruno-Walter-Lesesaal\, Anton-von-Webern-Platz 1\, Wien\, 1030
CATEGORIES:Buchpräsentation
END:VEVENT
END:VCALENDAR