BEGIN:VCALENDAR
VERSION:2.0
PRODID:-//Österreichische Gesellschaft für Musikwissenschaft - ECPv6.15.20//NONSGML v1.0//EN
CALSCALE:GREGORIAN
METHOD:PUBLISH
X-WR-CALNAME:Österreichische Gesellschaft für Musikwissenschaft
X-ORIGINAL-URL:https://oegmw.at
X-WR-CALDESC:Veranstaltungen für Österreichische Gesellschaft für Musikwissenschaft
REFRESH-INTERVAL;VALUE=DURATION:PT1H
X-Robots-Tag:noindex
X-PUBLISHED-TTL:PT1H
BEGIN:VTIMEZONE
TZID:Europe/Vienna
BEGIN:DAYLIGHT
TZOFFSETFROM:+0100
TZOFFSETTO:+0200
TZNAME:CEST
DTSTART:20250330T010000
END:DAYLIGHT
BEGIN:STANDARD
TZOFFSETFROM:+0200
TZOFFSETTO:+0100
TZNAME:CET
DTSTART:20251026T010000
END:STANDARD
BEGIN:DAYLIGHT
TZOFFSETFROM:+0100
TZOFFSETTO:+0200
TZNAME:CEST
DTSTART:20260329T010000
END:DAYLIGHT
BEGIN:STANDARD
TZOFFSETFROM:+0200
TZOFFSETTO:+0100
TZNAME:CET
DTSTART:20261025T010000
END:STANDARD
BEGIN:DAYLIGHT
TZOFFSETFROM:+0100
TZOFFSETTO:+0200
TZNAME:CEST
DTSTART:20270328T010000
END:DAYLIGHT
BEGIN:STANDARD
TZOFFSETFROM:+0200
TZOFFSETTO:+0100
TZNAME:CET
DTSTART:20271031T010000
END:STANDARD
END:VTIMEZONE
BEGIN:VEVENT
DTSTART;TZID=Europe/Vienna:20260326T063000
DTEND;TZID=Europe/Vienna:20260326T200000
DTSTAMP:20260424T040806
CREATED:20260304T152121Z
LAST-MODIFIED:20260304T152121Z
UID:2333-1774506600-1774555200@oegmw.at
SUMMARY:Gastvortrag | Anne Holzmüller: Von Klang umschlungen. Immersion und musikalisches Hören im späten 18. Jahrhundert
DESCRIPTION:Im ausgehenden 18. Jahrhundert differenzierten sich die Vorstellungen und Reflexionen darüber\, was musikalisches Hören sei und sein sollte\, zunehmend aus. Zur selben Zeit entwickelte sich auch ein neues Bewusstsein für ein verräumlichtes Musikerleben\, das sich mit dem Begriff der Immersion fassen lässt. Der Vortrag nimmt immersives Hörerleben im mittel- und norddeutschen Raum in den letzten Jahrzehnten des 18. Jahrhunderts aus unterschiedlichen Perspektiven in den Blick und wirft ein Schlaglicht auf Aufführungspraktiken\, Medien\, Räume und Situationen\, musikalische Schlüsselwerke sowie musikästhetische\, -theoretische und ideengeschichtliche Diskurse\, die jeweils einen Teil dazu beigetragen haben\, dass sich immersives Hören um 1800 zu einem selbstverständlichen Erlebnis-Topos von Musik entwickeln konnte.
URL:https://oegmw.at/veranstaltung/gastvortrag-anne-holzmueller-von-klang-umschlungen-immersion-und-musikalisches-hoeren-im-spaeten-18-jahrhundert
LOCATION:Institut für Musikwissenschaft Wien\, Spitalgasse 2-4\, Wien\, Wien\, 1090\, Österreich
END:VEVENT
END:VCALENDAR