BEGIN:VCALENDAR
VERSION:2.0
PRODID:-//Österreichische Gesellschaft für Musikwissenschaft - ECPv6.15.20//NONSGML v1.0//EN
CALSCALE:GREGORIAN
METHOD:PUBLISH
X-WR-CALNAME:Österreichische Gesellschaft für Musikwissenschaft
X-ORIGINAL-URL:https://oegmw.at
X-WR-CALDESC:Veranstaltungen für Österreichische Gesellschaft für Musikwissenschaft
REFRESH-INTERVAL;VALUE=DURATION:PT1H
X-Robots-Tag:noindex
X-PUBLISHED-TTL:PT1H
BEGIN:VTIMEZONE
TZID:Europe/Vienna
BEGIN:DAYLIGHT
TZOFFSETFROM:+0100
TZOFFSETTO:+0200
TZNAME:CEST
DTSTART:20230326T010000
END:DAYLIGHT
BEGIN:STANDARD
TZOFFSETFROM:+0200
TZOFFSETTO:+0100
TZNAME:CET
DTSTART:20231029T010000
END:STANDARD
BEGIN:DAYLIGHT
TZOFFSETFROM:+0100
TZOFFSETTO:+0200
TZNAME:CEST
DTSTART:20240331T010000
END:DAYLIGHT
BEGIN:STANDARD
TZOFFSETFROM:+0200
TZOFFSETTO:+0100
TZNAME:CET
DTSTART:20241027T010000
END:STANDARD
BEGIN:DAYLIGHT
TZOFFSETFROM:+0100
TZOFFSETTO:+0200
TZNAME:CEST
DTSTART:20250330T010000
END:DAYLIGHT
BEGIN:STANDARD
TZOFFSETFROM:+0200
TZOFFSETTO:+0100
TZNAME:CET
DTSTART:20251026T010000
END:STANDARD
END:VTIMEZONE
BEGIN:VEVENT
DTSTART;TZID=Europe/Vienna:20240301T180000
DTEND;TZID=Europe/Vienna:20240301T190000
DTSTAMP:20260421T155219
CREATED:20240222T075408Z
LAST-MODIFIED:20240222T081647Z
UID:919-1709316000-1709319600@oegmw.at
SUMMARY:Habilitationskolloquium Dr. Konstantin Voigt
DESCRIPTION:Titel des Habilitationsvortrages: \nDas „Neue Lied“ und die lateinischen Lieder des 12. Jahrhunderts. Versus\, Benedicamus und Conductus aus aquitanischen\, nordfranzösischen und normanno-sizilischen Handschriften \nInstitut für Musikwissenschaft\, Spitalgasse 2\, Hof 9\, 1090 Wien\, Hörsaal 1 \nDas Habilitationskolloquium wird hybrid abgehalten\, nähere Informationen und Zoom-Link hier. \n 
URL:https://oegmw.at/veranstaltung/habilitationskolloquium-dr-konstantin-voigt
LOCATION:Institut für Musikwissenschaft Wien\, Spitalgasse 2-4\, Wien\, Wien\, 1090\, Österreich
CATEGORIES:Habilitationskolloquium
END:VEVENT
BEGIN:VEVENT
DTSTART;TZID=Europe/Vienna:20240312T150000
DTEND;TZID=Europe/Vienna:20240312T190000
DTSTAMP:20260421T155219
CREATED:20240305T080727Z
LAST-MODIFIED:20240305T081744Z
UID:1019-1710255600-1710270000@oegmw.at
SUMMARY:Open Colloquium | On Music\, Racism\, and Coloniality: Austria\, USA\, Peru conversations
DESCRIPTION:The colloquium on music\, racism\, and coloniality convenes experts from the US\, Peru\, and Austria to discuss issues of historical racial discrimination and colonial legacies in the context of music making\, research\, and archiving. \nRoundtable 1: Engaging with music and racism: an Afro-Peruvian experience (14:00–15:30)\nDr. Javier Leon (Indiana University) | Dr. Rodrigo Chocano (Universität Wien) \nRoundtable 2: Music\, coloniality\, and institutions (16:00–18:00)\nDr. Javier Leon (Indiana University) | Dr. Julio Mendívil (Universität Wien)\nDr. Cornelia Gruber (Phonogrammarchiv Wien) | Alexander Silaen (Phonogrammarchiv Wien)
URL:https://oegmw.at/veranstaltung/open-colloquium-music-racism-and-coloniality-austria-usa-peru-conversations
LOCATION:Institut für Musikwissenschaft Wien\, Spitalgasse 2-4\, Wien\, Wien\, 1090\, Österreich
CATEGORIES:Podiumsdiskussion
END:VEVENT
BEGIN:VEVENT
DTSTART;TZID=Europe/Vienna:20240318T110000
DTEND;TZID=Europe/Vienna:20240318T130000
DTSTAMP:20260421T155219
CREATED:20240125T100439Z
LAST-MODIFIED:20240125T100439Z
UID:878-1710759600-1710766800@oegmw.at
SUMMARY:Care & Kunst. Vereinbarkeit an (Kunst)Universitäten
DESCRIPTION:Semesterauftakt ZfGD \nBegrüßung: VR Marie-Theres Holler\, Christa Brüstle\, Sophie Whybrew \nVortrag von Sascia Bailer (Zürich) \nCare for Presence. Was Kultureinrichtungen tun können\, um Künstler*innen mit Sorgeverantwortung nicht auszuschließen \nRound Table \nmit Joseph Breinl\, Christa Bruckner-Haring\, Gudrun Gaedke\, Katharina Groß-Vogt\, Aneta Pichler \nModeration: Nicole Strohmann
URL:https://oegmw.at/veranstaltung/care-kunst-vereinbarkeit-an-kunstuniversitaeten
LOCATION:Universität für Musik und darstellende Kunst Graz\, Brandhofgasse 1\, Brandhofgasse 21\, Graz\, Steiermark\, 8010\, Österreich
ORGANIZER;CN="Zentrum f%C3%BCr Genderforschung und Diversit%C3%A4t":MAILTO:genderforschung@kug.ac.at
END:VEVENT
BEGIN:VEVENT
DTSTART;TZID=Europe/Vienna:20240318T193000
DTEND;TZID=Europe/Vienna:20240318T210000
DTSTAMP:20260421T155219
CREATED:20240302T110446Z
LAST-MODIFIED:20240312T075507Z
UID:852-1710790200-1710795600@oegmw.at
SUMMARY:Gastvortrag | Peter Wollny: Johann Sebastian Bachs Messe in h-Moll – Neue Erkenntnisse\, neue Fragen
DESCRIPTION:Die monumentale „Große Catholische“ Messe zählt zu den rätselhaftesten Werken des Leipziger Thomaskantors J. S. Bach; und ihre schlüssige biographische und historische Deutung bildet noch immer eine der großen Herausforderungen der Forschung. Zwar kann die komplizierte\, mehrstufige Entstehungsgeschichte mittlerweile recht genau nachgezeichnet werden\, doch bleibt unklar\, in welchem Rahmen man sich Aufführungen vorstellen muss und welche Umstände Bach zur Vervollständigung des ursprünglich zweiteilig angelegten Werks veranlasst haben. Im Vortrag soll der gegenwärtige Forschungsstand anhand von neuen Entdeckungen und Überlegungen diskutiert werden. \nProf. Dr. Dr. h.c. Peter Wollny ist Direktor des Bach-Archivs Leipzig. \nDer Vortrag findet hybrid statt. Weitere Informationen dazu hier.
URL:https://oegmw.at/veranstaltung/gastvortrag-peter-wollny-johann-sebastian-bachs-messe-in-h-moll-neue-erkenntnisse-neue-fragen
LOCATION:Institut für Musikwissenschaft Wien\, Spitalgasse 2-4\, Wien\, Wien\, 1090\, Österreich
CATEGORIES:Gastvortrag
END:VEVENT
BEGIN:VEVENT
DTSTART;TZID=Europe/Vienna:20240321T191500
DTEND;TZID=Europe/Vienna:20240321T203000
DTSTAMP:20260421T155219
CREATED:20240219T070517Z
LAST-MODIFIED:20240219T070517Z
UID:906-1711048500-1711053000@oegmw.at
SUMMARY:Gastvortrag | Horst Weber – Neue Musik in Zeiten des Krieges. Italien zwischen Faschismus und Resistenza
DESCRIPTION:Die Resistenza war\, wenn nicht militärisch\, so doch politisch ein Erfolg für Italien; sie gab dem Land nach dem Krieg seine Selbstachtung zurück. In diesen Prozess waren auch Komponisten involviert\, nicht nur durch die Vertonung von Texten\, die Metaphern des Widerstands waren\, sondern auch durch die Technik des Komponierens selbst. Den Wechsel vom kanonischen zum reihengebundenen Tonsatz trieben vor allem Luigi Dallapiccola\, Bruno Maderna und Luigi Nono voran und lieferten damit ein zentrales Narrativ für die Musik der Nachkriegszeit: die Parallele von politischem und musikalischem Fortschritt\, letztlich von Sozialismus und Dodekaphonie. Wie der Mythos der ‘Resistenza’ seit den neunziger Jahren auf dem Prüfstand steht\, so ist auch die ‘Meistererzählung’ der italienischen Avantgarde kritisch zu hinterfragen. \nHorst Weber\, geboren 1944 in Koblenz\, studierte 1962–68 in Wien Theaterwissenschaft\, Musikwissenschaft und Dirigieren an der Universität bzw. an der heutigen MDW. 1975–78 war er Assistent an der Universität Bonn\, 1978–2010 Professor für Musikwissenschaft an der Folkwang Universität der Künste in Essen. Schwerpunkte seiner Forschung sind die Musik der Mozart-Zeit und der Wiener Moderne sowie Musik in der Emigration. 2011–12 hatte er eine Gastprofessur an der MDW inne.\nPublikationen (Auswahl): Alexander Zemlinsky. Eine Studie\, Wien 1977; Alexander Zemlinsky. Briefwechsel mit Schönberg\, Webern\, Berg und Schreker\, Darmstadt 1995; Quellen zur Geschichte emigrierter Musiker 1933–1950\, Bd. 1: Kalifornien\, München. 2003\, Bd. 2: New York\, München 2005; „I am not a hero\, I am a composer“. Hanns Eisler in Hollywood\, Hildesheim 2012. \nDie Veranstaltungsreihe »Music\, Culture & Politics in Central Europe. Historical Perspectives« versteht sich als Forum für aktuelle Forschungen zum Musikleben in dieser geografisch und politisch\, aber auch kulturell und sozial hybriden Region. \nOrganisation: Fritz Trümpi
URL:https://oegmw.at/veranstaltung/gastvortrag-horst-weber-neue-musik-in-zeiten-des-krieges-italien-zwischen-faschismus-und-resistenza
LOCATION:Institut für Musikwissenschaft und Interpretationsforschung an der mdw\, Seilerstätte 26\, Wien\, 1010\, Österreich
CATEGORIES:Gastvortrag
END:VEVENT
END:VCALENDAR